BEGIN:VCALENDAR
VERSION:2.0
PRODID: Ultiorganizer


BEGIN:VEVENT
SUMMARY:Chillkröten-Fly High
DESCRIPTION:Master Mixed: Pool B
LOCATION: Heilbronn 5
DTSTART;TZID=Europe/Berlin:20260508T102500
DURATION: P85M
GEO:0.0000000000000;0.0000000000000
END:VEVENT

BEGIN:VEVENT
SUMMARY:Zoo-Fly High
DESCRIPTION:Master Mixed: Pool B
LOCATION: Heilbronn 2
DTSTART;TZID=Europe/Berlin:20260508T131500
DURATION: P85M
GEO:0.0000000000000;0.0000000000000
END:VEVENT

BEGIN:VEVENT
SUMMARY:HEPU-Fly High
DESCRIPTION:Master Mixed: Pool B
LOCATION: Heilbronn 6
DTSTART;TZID=Europe/Berlin:20260508T160500
DURATION: P85M
GEO:0.0000000000000;0.0000000000000
END:VEVENT

END:VCALENDAR
